BEGIN:VCALENDAR
VERSION:2.0
CREATED:20260305T202727Z
PRODID:-//Southwest Airlines Co./Equisolve Calendar v1.0//EN
METHOD:PUBLISH
BEGIN:VEVENT
UID:9652dbaef02a49bb85631bb2f0f88d3b
DTSTAMP:20260420T120508Z
DTSTART:20260423T140000Z
DTEND:20260423T150000Z
SUMMARY:Q1 2026 Southwest Airlines Financial Results Conference Call
DESCRIPTION:Q1 2026 Southwest Airlines Financial Results Conference Call\nDate: Apr 23\, 2026 10:00 am EDT\nWebcast: https://event.choruscall.com/mediaframe/webcast.html?webcastid=JzFOasnS
END:VEVENT
END:VCALENDAR
