BEGIN:VCALENDAR
VERSION:2.0
CREATED:20260305T202648Z
PRODID:-//Southwest Airlines Co./Equisolve Calendar v1.0//EN
METHOD:PUBLISH
BEGIN:VEVENT
UID:391bd1dbfd1c998fd6472ccf2bf3eaf9
DTSTAMP:20260424T131656Z
DTSTART:20260507T210000Z
DTEND:20260507T220000Z
SUMMARY:2026 Annual Meeting of Shareholders (Virtual)
DESCRIPTION:2026 Annual Meeting of Shareholders (Virtual)\nDate: May 7\, 2026 4:00 pm CDT\nWebcast: https://central.virtualshareholdermeeting.com/vsm/web?pvskey=LUV2026
END:VEVENT
END:VCALENDAR
